BEGIN:VCALENDAR
VERSION:2.0
PRODID:-//Lake Pointe RV and Condo Resort - ECPv6.15.20//NONSGML v1.0//EN
CALSCALE:GREGORIAN
METHOD:PUBLISH
X-WR-CALNAME:Lake Pointe RV and Condo Resort
X-ORIGINAL-URL:https://lakepointervresort.com
X-WR-CALDESC:Events for Lake Pointe RV and Condo Resort
REFRESH-INTERVAL;VALUE=DURATION:PT1H
X-Robots-Tag:noindex
X-PUBLISHED-TTL:PT1H
BEGIN:VTIMEZONE
TZID:America/Chicago
BEGIN:DAYLIGHT
TZOFFSETFROM:-0600
TZOFFSETTO:-0500
TZNAME:CDT
DTSTART:20250309T080000
END:DAYLIGHT
BEGIN:STANDARD
TZOFFSETFROM:-0500
TZOFFSETTO:-0600
TZNAME:CST
DTSTART:20251102T070000
END:STANDARD
BEGIN:DAYLIGHT
TZOFFSETFROM:-0600
TZOFFSETTO:-0500
TZNAME:CDT
DTSTART:20260308T080000
END:DAYLIGHT
BEGIN:STANDARD
TZOFFSETFROM:-0500
TZOFFSETTO:-0600
TZNAME:CST
DTSTART:20261101T070000
END:STANDARD
BEGIN:DAYLIGHT
TZOFFSETFROM:-0600
TZOFFSETTO:-0500
TZNAME:CDT
DTSTART:20270314T080000
END:DAYLIGHT
BEGIN:STANDARD
TZOFFSETFROM:-0500
TZOFFSETTO:-0600
TZNAME:CST
DTSTART:20271107T070000
END:STANDARD
BEGIN:DAYLIGHT
TZOFFSETFROM:-0600
TZOFFSETTO:-0500
TZNAME:CDT
DTSTART:20280312T080000
END:DAYLIGHT
BEGIN:STANDARD
TZOFFSETFROM:-0500
TZOFFSETTO:-0600
TZNAME:CST
DTSTART:20281105T070000
END:STANDARD
END:VTIMEZONE
BEGIN:VEVENT
DTSTART;TZID=America/Chicago:20260624T180000
DTEND;TZID=America/Chicago:20260930T190000
DTSTAMP:20260422T173152
CREATED:20260202T191459Z
LAST-MODIFIED:20260225T013919Z
UID:10005329-1782324000-1790794800@lakepointervresort.com
SUMMARY:Neil's Burger Night
DESCRIPTION:$7.50 Pre-Orders Only:\nPlease pre-order your burger at the Clubhouse office.  You can also fix your burger the way you like it and take it to go. \n\nHamburger with all the fixin’s\nPotato Salad\nBaked Beans\nLemonade\nIce cream:  Add $1
URL:https://lakepointervresort.com/event/burger-night-2-2/2026-06-24/
LOCATION:Lake Pointe Clubhouse\, 2140 Lakeland Drive\, Canyon Lake\, TX\, 78133\, United States
ATTACH;FMTTYPE=image/jpeg:https://lakepointervresort.com/wp-content/uploads/2025/01/Hamburger-Night.jpg
END:VEVENT
BEGIN:VEVENT
DTSTART;TZID=America/Chicago:20260701T180000
DTEND;TZID=America/Chicago:20261007T190000
DTSTAMP:20260422T173153
CREATED:20260202T191459Z
LAST-MODIFIED:20260225T013919Z
UID:10005330-1782928800-1791399600@lakepointervresort.com
SUMMARY:Neil's Burger Night
DESCRIPTION:$7.50 Pre-Orders Only:\nPlease pre-order your burger at the Clubhouse office.  You can also fix your burger the way you like it and take it to go. \n\nHamburger with all the fixin’s\nPotato Salad\nBaked Beans\nLemonade\nIce cream:  Add $1
URL:https://lakepointervresort.com/event/burger-night-2-2/2026-07-01/
LOCATION:Lake Pointe Clubhouse\, 2140 Lakeland Drive\, Canyon Lake\, TX\, 78133\, United States
ATTACH;FMTTYPE=image/jpeg:https://lakepointervresort.com/wp-content/uploads/2025/01/Hamburger-Night.jpg
END:VEVENT
BEGIN:VEVENT
DTSTART;TZID=America/Chicago:20260708T180000
DTEND;TZID=America/Chicago:20261014T190000
DTSTAMP:20260422T173153
CREATED:20260202T191459Z
LAST-MODIFIED:20260225T013919Z
UID:10005331-1783533600-1792004400@lakepointervresort.com
SUMMARY:Neil's Burger Night
DESCRIPTION:$7.50 Pre-Orders Only:\nPlease pre-order your burger at the Clubhouse office.  You can also fix your burger the way you like it and take it to go. \n\nHamburger with all the fixin’s\nPotato Salad\nBaked Beans\nLemonade\nIce cream:  Add $1
URL:https://lakepointervresort.com/event/burger-night-2-2/2026-07-08/
LOCATION:Lake Pointe Clubhouse\, 2140 Lakeland Drive\, Canyon Lake\, TX\, 78133\, United States
ATTACH;FMTTYPE=image/jpeg:https://lakepointervresort.com/wp-content/uploads/2025/01/Hamburger-Night.jpg
END:VEVENT
BEGIN:VEVENT
DTSTART;TZID=America/Chicago:20260715T180000
DTEND;TZID=America/Chicago:20261021T190000
DTSTAMP:20260422T173153
CREATED:20260202T191459Z
LAST-MODIFIED:20260225T013919Z
UID:10005332-1784138400-1792609200@lakepointervresort.com
SUMMARY:Neil's Burger Night
DESCRIPTION:$7.50 Pre-Orders Only:\nPlease pre-order your burger at the Clubhouse office.  You can also fix your burger the way you like it and take it to go. \n\nHamburger with all the fixin’s\nPotato Salad\nBaked Beans\nLemonade\nIce cream:  Add $1
URL:https://lakepointervresort.com/event/burger-night-2-2/2026-07-15/
LOCATION:Lake Pointe Clubhouse\, 2140 Lakeland Drive\, Canyon Lake\, TX\, 78133\, United States
ATTACH;FMTTYPE=image/jpeg:https://lakepointervresort.com/wp-content/uploads/2025/01/Hamburger-Night.jpg
END:VEVENT
BEGIN:VEVENT
DTSTART;TZID=America/Chicago:20260722T180000
DTEND;TZID=America/Chicago:20261028T190000
DTSTAMP:20260422T173153
CREATED:20260202T191459Z
LAST-MODIFIED:20260225T013919Z
UID:10005333-1784743200-1793214000@lakepointervresort.com
SUMMARY:Neil's Burger Night
DESCRIPTION:$7.50 Pre-Orders Only:\nPlease pre-order your burger at the Clubhouse office.  You can also fix your burger the way you like it and take it to go. \n\nHamburger with all the fixin’s\nPotato Salad\nBaked Beans\nLemonade\nIce cream:  Add $1
URL:https://lakepointervresort.com/event/burger-night-2-2/2026-07-22/
LOCATION:Lake Pointe Clubhouse\, 2140 Lakeland Drive\, Canyon Lake\, TX\, 78133\, United States
ATTACH;FMTTYPE=image/jpeg:https://lakepointervresort.com/wp-content/uploads/2025/01/Hamburger-Night.jpg
END:VEVENT
BEGIN:VEVENT
DTSTART;TZID=America/Chicago:20260729T180000
DTEND;TZID=America/Chicago:20261104T180000
DTSTAMP:20260422T173153
CREATED:20260202T191459Z
LAST-MODIFIED:20260225T013919Z
UID:10005334-1785348000-1793815200@lakepointervresort.com
SUMMARY:Neil's Burger Night
DESCRIPTION:$7.50 Pre-Orders Only:\nPlease pre-order your burger at the Clubhouse office.  You can also fix your burger the way you like it and take it to go. \n\nHamburger with all the fixin’s\nPotato Salad\nBaked Beans\nLemonade\nIce cream:  Add $1
URL:https://lakepointervresort.com/event/burger-night-2-2/2026-07-29/
LOCATION:Lake Pointe Clubhouse\, 2140 Lakeland Drive\, Canyon Lake\, TX\, 78133\, United States
ATTACH;FMTTYPE=image/jpeg:https://lakepointervresort.com/wp-content/uploads/2025/01/Hamburger-Night.jpg
END:VEVENT
BEGIN:VEVENT
DTSTART;TZID=America/Chicago:20260805T180000
DTEND;TZID=America/Chicago:20261111T180000
DTSTAMP:20260422T173153
CREATED:20260202T191459Z
LAST-MODIFIED:20260225T013919Z
UID:10005335-1785952800-1794420000@lakepointervresort.com
SUMMARY:Neil's Burger Night
DESCRIPTION:$7.50 Pre-Orders Only:\nPlease pre-order your burger at the Clubhouse office.  You can also fix your burger the way you like it and take it to go. \n\nHamburger with all the fixin’s\nPotato Salad\nBaked Beans\nLemonade\nIce cream:  Add $1
URL:https://lakepointervresort.com/event/burger-night-2-2/2026-08-05/
LOCATION:Lake Pointe Clubhouse\, 2140 Lakeland Drive\, Canyon Lake\, TX\, 78133\, United States
ATTACH;FMTTYPE=image/jpeg:https://lakepointervresort.com/wp-content/uploads/2025/01/Hamburger-Night.jpg
END:VEVENT
BEGIN:VEVENT
DTSTART;TZID=America/Chicago:20260812T180000
DTEND;TZID=America/Chicago:20261118T180000
DTSTAMP:20260422T173153
CREATED:20260202T191459Z
LAST-MODIFIED:20260225T013919Z
UID:10005336-1786557600-1795024800@lakepointervresort.com
SUMMARY:Neil's Burger Night
DESCRIPTION:$7.50 Pre-Orders Only:\nPlease pre-order your burger at the Clubhouse office.  You can also fix your burger the way you like it and take it to go. \n\nHamburger with all the fixin’s\nPotato Salad\nBaked Beans\nLemonade\nIce cream:  Add $1
URL:https://lakepointervresort.com/event/burger-night-2-2/2026-08-12/
LOCATION:Lake Pointe Clubhouse\, 2140 Lakeland Drive\, Canyon Lake\, TX\, 78133\, United States
ATTACH;FMTTYPE=image/jpeg:https://lakepointervresort.com/wp-content/uploads/2025/01/Hamburger-Night.jpg
END:VEVENT
BEGIN:VEVENT
DTSTART;TZID=America/Chicago:20260819T180000
DTEND;TZID=America/Chicago:20261125T180000
DTSTAMP:20260422T173153
CREATED:20260202T191459Z
LAST-MODIFIED:20260225T013919Z
UID:10005337-1787162400-1795629600@lakepointervresort.com
SUMMARY:Neil's Burger Night
DESCRIPTION:$7.50 Pre-Orders Only:\nPlease pre-order your burger at the Clubhouse office.  You can also fix your burger the way you like it and take it to go. \n\nHamburger with all the fixin’s\nPotato Salad\nBaked Beans\nLemonade\nIce cream:  Add $1
URL:https://lakepointervresort.com/event/burger-night-2-2/2026-08-19/
LOCATION:Lake Pointe Clubhouse\, 2140 Lakeland Drive\, Canyon Lake\, TX\, 78133\, United States
ATTACH;FMTTYPE=image/jpeg:https://lakepointervresort.com/wp-content/uploads/2025/01/Hamburger-Night.jpg
END:VEVENT
BEGIN:VEVENT
DTSTART;TZID=America/Chicago:20260826T180000
DTEND;TZID=America/Chicago:20261202T180000
DTSTAMP:20260422T173153
CREATED:20260202T191459Z
LAST-MODIFIED:20260225T013919Z
UID:10005338-1787767200-1796234400@lakepointervresort.com
SUMMARY:Neil's Burger Night
DESCRIPTION:$7.50 Pre-Orders Only:\nPlease pre-order your burger at the Clubhouse office.  You can also fix your burger the way you like it and take it to go. \n\nHamburger with all the fixin’s\nPotato Salad\nBaked Beans\nLemonade\nIce cream:  Add $1
URL:https://lakepointervresort.com/event/burger-night-2-2/2026-08-26/
LOCATION:Lake Pointe Clubhouse\, 2140 Lakeland Drive\, Canyon Lake\, TX\, 78133\, United States
ATTACH;FMTTYPE=image/jpeg:https://lakepointervresort.com/wp-content/uploads/2025/01/Hamburger-Night.jpg
END:VEVENT
BEGIN:VEVENT
DTSTART;TZID=America/Chicago:20260902T180000
DTEND;TZID=America/Chicago:20261209T180000
DTSTAMP:20260422T173153
CREATED:20260202T191459Z
LAST-MODIFIED:20260225T013919Z
UID:10005339-1788372000-1796839200@lakepointervresort.com
SUMMARY:Neil's Burger Night
DESCRIPTION:$7.50 Pre-Orders Only:\nPlease pre-order your burger at the Clubhouse office.  You can also fix your burger the way you like it and take it to go. \n\nHamburger with all the fixin’s\nPotato Salad\nBaked Beans\nLemonade\nIce cream:  Add $1
URL:https://lakepointervresort.com/event/burger-night-2-2/2026-09-02/
LOCATION:Lake Pointe Clubhouse\, 2140 Lakeland Drive\, Canyon Lake\, TX\, 78133\, United States
ATTACH;FMTTYPE=image/jpeg:https://lakepointervresort.com/wp-content/uploads/2025/01/Hamburger-Night.jpg
END:VEVENT
BEGIN:VEVENT
DTSTART;TZID=America/Chicago:20260909T180000
DTEND;TZID=America/Chicago:20261216T180000
DTSTAMP:20260422T173153
CREATED:20260202T191459Z
LAST-MODIFIED:20260225T013919Z
UID:10005340-1788976800-1797444000@lakepointervresort.com
SUMMARY:Neil's Burger Night
DESCRIPTION:$7.50 Pre-Orders Only:\nPlease pre-order your burger at the Clubhouse office.  You can also fix your burger the way you like it and take it to go. \n\nHamburger with all the fixin’s\nPotato Salad\nBaked Beans\nLemonade\nIce cream:  Add $1
URL:https://lakepointervresort.com/event/burger-night-2-2/2026-09-09/
LOCATION:Lake Pointe Clubhouse\, 2140 Lakeland Drive\, Canyon Lake\, TX\, 78133\, United States
ATTACH;FMTTYPE=image/jpeg:https://lakepointervresort.com/wp-content/uploads/2025/01/Hamburger-Night.jpg
END:VEVENT
BEGIN:VEVENT
DTSTART;TZID=America/Chicago:20260916T180000
DTEND;TZID=America/Chicago:20261223T180000
DTSTAMP:20260422T173153
CREATED:20260202T191459Z
LAST-MODIFIED:20260225T013919Z
UID:10005341-1789581600-1798048800@lakepointervresort.com
SUMMARY:Neil's Burger Night
DESCRIPTION:$7.50 Pre-Orders Only:\nPlease pre-order your burger at the Clubhouse office.  You can also fix your burger the way you like it and take it to go. \n\nHamburger with all the fixin’s\nPotato Salad\nBaked Beans\nLemonade\nIce cream:  Add $1
URL:https://lakepointervresort.com/event/burger-night-2-2/2026-09-16/
LOCATION:Lake Pointe Clubhouse\, 2140 Lakeland Drive\, Canyon Lake\, TX\, 78133\, United States
ATTACH;FMTTYPE=image/jpeg:https://lakepointervresort.com/wp-content/uploads/2025/01/Hamburger-Night.jpg
END:VEVENT
BEGIN:VEVENT
DTSTART;TZID=America/Chicago:20260923T180000
DTEND;TZID=America/Chicago:20261230T180000
DTSTAMP:20260422T173153
CREATED:20260202T191459Z
LAST-MODIFIED:20260225T013919Z
UID:10005342-1790186400-1798653600@lakepointervresort.com
SUMMARY:Neil's Burger Night
DESCRIPTION:$7.50 Pre-Orders Only:\nPlease pre-order your burger at the Clubhouse office.  You can also fix your burger the way you like it and take it to go. \n\nHamburger with all the fixin’s\nPotato Salad\nBaked Beans\nLemonade\nIce cream:  Add $1
URL:https://lakepointervresort.com/event/burger-night-2-2/2026-09-23/
LOCATION:Lake Pointe Clubhouse\, 2140 Lakeland Drive\, Canyon Lake\, TX\, 78133\, United States
ATTACH;FMTTYPE=image/jpeg:https://lakepointervresort.com/wp-content/uploads/2025/01/Hamburger-Night.jpg
END:VEVENT
BEGIN:VEVENT
DTSTART;TZID=America/Chicago:20260929T190000
DTEND;TZID=America/Chicago:20260929T210000
DTSTAMP:20260422T173153
CREATED:20250325T204043Z
LAST-MODIFIED:20250325T204043Z
UID:10005105-1790708400-1790715600@lakepointervresort.com
SUMMARY:Game Night
DESCRIPTION:Self-Led Game Night\nCome join us for Games at the Clubhouse\nLet’s play!  Cards\, Dominos\, Left/Right/Center\, and more.  All bets welcome\, so bring your friends and let’s see who wins.  BYOB and your own snacks.  Water and soda available for $1 each.
URL:https://lakepointervresort.com/event/game-night-2-2/2026-09-29/
LOCATION:TX
ATTACH;FMTTYPE=image/jpeg:https://lakepointervresort.com/wp-content/uploads/2024/09/Game-Night.jpg
END:VEVENT
BEGIN:VEVENT
DTSTART;TZID=America/Chicago:20260930T180000
DTEND;TZID=America/Chicago:20270106T180000
DTSTAMP:20260422T173153
CREATED:20260202T191459Z
LAST-MODIFIED:20260225T013919Z
UID:10005343-1790791200-1799258400@lakepointervresort.com
SUMMARY:Neil's Burger Night
DESCRIPTION:$7.50 Pre-Orders Only:\nPlease pre-order your burger at the Clubhouse office.  You can also fix your burger the way you like it and take it to go. \n\nHamburger with all the fixin’s\nPotato Salad\nBaked Beans\nLemonade\nIce cream:  Add $1
URL:https://lakepointervresort.com/event/burger-night-2-2/2026-09-30/
LOCATION:Lake Pointe Clubhouse\, 2140 Lakeland Drive\, Canyon Lake\, TX\, 78133\, United States
ATTACH;FMTTYPE=image/jpeg:https://lakepointervresort.com/wp-content/uploads/2025/01/Hamburger-Night.jpg
END:VEVENT
BEGIN:VEVENT
DTSTART;TZID=America/Chicago:20261006T190000
DTEND;TZID=America/Chicago:20261006T210000
DTSTAMP:20260422T173153
CREATED:20250325T204043Z
LAST-MODIFIED:20250325T204043Z
UID:10005106-1791313200-1791320400@lakepointervresort.com
SUMMARY:Game Night
DESCRIPTION:Self-Led Game Night\nCome join us for Games at the Clubhouse\nLet’s play!  Cards\, Dominos\, Left/Right/Center\, and more.  All bets welcome\, so bring your friends and let’s see who wins.  BYOB and your own snacks.  Water and soda available for $1 each.
URL:https://lakepointervresort.com/event/game-night-2-2/2026-10-06/
LOCATION:TX
ATTACH;FMTTYPE=image/jpeg:https://lakepointervresort.com/wp-content/uploads/2024/09/Game-Night.jpg
END:VEVENT
BEGIN:VEVENT
DTSTART;TZID=America/Chicago:20261007T180000
DTEND;TZID=America/Chicago:20270113T180000
DTSTAMP:20260422T173153
CREATED:20260202T191459Z
LAST-MODIFIED:20260225T013919Z
UID:10005344-1791396000-1799863200@lakepointervresort.com
SUMMARY:Neil's Burger Night
DESCRIPTION:$7.50 Pre-Orders Only:\nPlease pre-order your burger at the Clubhouse office.  You can also fix your burger the way you like it and take it to go. \n\nHamburger with all the fixin’s\nPotato Salad\nBaked Beans\nLemonade\nIce cream:  Add $1
URL:https://lakepointervresort.com/event/burger-night-2-2/2026-10-07/
LOCATION:Lake Pointe Clubhouse\, 2140 Lakeland Drive\, Canyon Lake\, TX\, 78133\, United States
ATTACH;FMTTYPE=image/jpeg:https://lakepointervresort.com/wp-content/uploads/2025/01/Hamburger-Night.jpg
END:VEVENT
BEGIN:VEVENT
DTSTART;TZID=America/Chicago:20261013T190000
DTEND;TZID=America/Chicago:20261013T210000
DTSTAMP:20260422T173153
CREATED:20250325T204043Z
LAST-MODIFIED:20250325T204043Z
UID:10005107-1791918000-1791925200@lakepointervresort.com
SUMMARY:Game Night
DESCRIPTION:Self-Led Game Night\nCome join us for Games at the Clubhouse\nLet’s play!  Cards\, Dominos\, Left/Right/Center\, and more.  All bets welcome\, so bring your friends and let’s see who wins.  BYOB and your own snacks.  Water and soda available for $1 each.
URL:https://lakepointervresort.com/event/game-night-2-2/2026-10-13/
LOCATION:TX
ATTACH;FMTTYPE=image/jpeg:https://lakepointervresort.com/wp-content/uploads/2024/09/Game-Night.jpg
END:VEVENT
BEGIN:VEVENT
DTSTART;TZID=America/Chicago:20261014T180000
DTEND;TZID=America/Chicago:20270120T180000
DTSTAMP:20260422T173153
CREATED:20260202T191459Z
LAST-MODIFIED:20260225T013919Z
UID:10005345-1792000800-1800468000@lakepointervresort.com
SUMMARY:Neil's Burger Night
DESCRIPTION:$7.50 Pre-Orders Only:\nPlease pre-order your burger at the Clubhouse office.  You can also fix your burger the way you like it and take it to go. \n\nHamburger with all the fixin’s\nPotato Salad\nBaked Beans\nLemonade\nIce cream:  Add $1
URL:https://lakepointervresort.com/event/burger-night-2-2/2026-10-14/
LOCATION:Lake Pointe Clubhouse\, 2140 Lakeland Drive\, Canyon Lake\, TX\, 78133\, United States
ATTACH;FMTTYPE=image/jpeg:https://lakepointervresort.com/wp-content/uploads/2025/01/Hamburger-Night.jpg
END:VEVENT
BEGIN:VEVENT
DTSTART;TZID=America/Chicago:20261020T190000
DTEND;TZID=America/Chicago:20261020T210000
DTSTAMP:20260422T173153
CREATED:20250325T204043Z
LAST-MODIFIED:20250325T204043Z
UID:10005108-1792522800-1792530000@lakepointervresort.com
SUMMARY:Game Night
DESCRIPTION:Self-Led Game Night\nCome join us for Games at the Clubhouse\nLet’s play!  Cards\, Dominos\, Left/Right/Center\, and more.  All bets welcome\, so bring your friends and let’s see who wins.  BYOB and your own snacks.  Water and soda available for $1 each.
URL:https://lakepointervresort.com/event/game-night-2-2/2026-10-20/
LOCATION:TX
ATTACH;FMTTYPE=image/jpeg:https://lakepointervresort.com/wp-content/uploads/2024/09/Game-Night.jpg
END:VEVENT
BEGIN:VEVENT
DTSTART;TZID=America/Chicago:20261021T180000
DTEND;TZID=America/Chicago:20270127T180000
DTSTAMP:20260422T173153
CREATED:20260202T191459Z
LAST-MODIFIED:20260225T013919Z
UID:10005346-1792605600-1801072800@lakepointervresort.com
SUMMARY:Neil's Burger Night
DESCRIPTION:$7.50 Pre-Orders Only:\nPlease pre-order your burger at the Clubhouse office.  You can also fix your burger the way you like it and take it to go. \n\nHamburger with all the fixin’s\nPotato Salad\nBaked Beans\nLemonade\nIce cream:  Add $1
URL:https://lakepointervresort.com/event/burger-night-2-2/2026-10-21/
LOCATION:Lake Pointe Clubhouse\, 2140 Lakeland Drive\, Canyon Lake\, TX\, 78133\, United States
ATTACH;FMTTYPE=image/jpeg:https://lakepointervresort.com/wp-content/uploads/2025/01/Hamburger-Night.jpg
END:VEVENT
BEGIN:VEVENT
DTSTART;TZID=America/Chicago:20261027T190000
DTEND;TZID=America/Chicago:20261027T210000
DTSTAMP:20260422T173153
CREATED:20250325T204043Z
LAST-MODIFIED:20250325T204043Z
UID:10005109-1793127600-1793134800@lakepointervresort.com
SUMMARY:Game Night
DESCRIPTION:Self-Led Game Night\nCome join us for Games at the Clubhouse\nLet’s play!  Cards\, Dominos\, Left/Right/Center\, and more.  All bets welcome\, so bring your friends and let’s see who wins.  BYOB and your own snacks.  Water and soda available for $1 each.
URL:https://lakepointervresort.com/event/game-night-2-2/2026-10-27/
LOCATION:TX
ATTACH;FMTTYPE=image/jpeg:https://lakepointervresort.com/wp-content/uploads/2024/09/Game-Night.jpg
END:VEVENT
BEGIN:VEVENT
DTSTART;TZID=America/Chicago:20261028T180000
DTEND;TZID=America/Chicago:20270203T180000
DTSTAMP:20260422T173153
CREATED:20260202T191459Z
LAST-MODIFIED:20260225T013919Z
UID:10005347-1793210400-1801677600@lakepointervresort.com
SUMMARY:Neil's Burger Night
DESCRIPTION:$7.50 Pre-Orders Only:\nPlease pre-order your burger at the Clubhouse office.  You can also fix your burger the way you like it and take it to go. \n\nHamburger with all the fixin’s\nPotato Salad\nBaked Beans\nLemonade\nIce cream:  Add $1
URL:https://lakepointervresort.com/event/burger-night-2-2/2026-10-28/
LOCATION:Lake Pointe Clubhouse\, 2140 Lakeland Drive\, Canyon Lake\, TX\, 78133\, United States
ATTACH;FMTTYPE=image/jpeg:https://lakepointervresort.com/wp-content/uploads/2025/01/Hamburger-Night.jpg
END:VEVENT
BEGIN:VEVENT
DTSTART;TZID=America/Chicago:20261103T190000
DTEND;TZID=America/Chicago:20261103T210000
DTSTAMP:20260422T173153
CREATED:20250325T204043Z
LAST-MODIFIED:20250325T204043Z
UID:10005110-1793732400-1793739600@lakepointervresort.com
SUMMARY:Game Night
DESCRIPTION:Self-Led Game Night\nCome join us for Games at the Clubhouse\nLet’s play!  Cards\, Dominos\, Left/Right/Center\, and more.  All bets welcome\, so bring your friends and let’s see who wins.  BYOB and your own snacks.  Water and soda available for $1 each.
URL:https://lakepointervresort.com/event/game-night-2-2/2026-11-03/
LOCATION:TX
ATTACH;FMTTYPE=image/jpeg:https://lakepointervresort.com/wp-content/uploads/2024/09/Game-Night.jpg
END:VEVENT
BEGIN:VEVENT
DTSTART;TZID=America/Chicago:20261104T180000
DTEND;TZID=America/Chicago:20270210T190000
DTSTAMP:20260422T173153
CREATED:20260202T191459Z
LAST-MODIFIED:20260225T013919Z
UID:10005348-1793815200-1802286000@lakepointervresort.com
SUMMARY:Neil's Burger Night
DESCRIPTION:$7.50 Pre-Orders Only:\nPlease pre-order your burger at the Clubhouse office.  You can also fix your burger the way you like it and take it to go. \n\nHamburger with all the fixin’s\nPotato Salad\nBaked Beans\nLemonade\nIce cream:  Add $1
URL:https://lakepointervresort.com/event/burger-night-2-2/2026-11-04/
LOCATION:Lake Pointe Clubhouse\, 2140 Lakeland Drive\, Canyon Lake\, TX\, 78133\, United States
ATTACH;FMTTYPE=image/jpeg:https://lakepointervresort.com/wp-content/uploads/2025/01/Hamburger-Night.jpg
END:VEVENT
BEGIN:VEVENT
DTSTART;TZID=America/Chicago:20261110T190000
DTEND;TZID=America/Chicago:20261110T210000
DTSTAMP:20260422T173153
CREATED:20250325T204043Z
LAST-MODIFIED:20250325T204043Z
UID:10005111-1794337200-1794344400@lakepointervresort.com
SUMMARY:Game Night
DESCRIPTION:Self-Led Game Night\nCome join us for Games at the Clubhouse\nLet’s play!  Cards\, Dominos\, Left/Right/Center\, and more.  All bets welcome\, so bring your friends and let’s see who wins.  BYOB and your own snacks.  Water and soda available for $1 each.
URL:https://lakepointervresort.com/event/game-night-2-2/2026-11-10/
LOCATION:TX
ATTACH;FMTTYPE=image/jpeg:https://lakepointervresort.com/wp-content/uploads/2024/09/Game-Night.jpg
END:VEVENT
BEGIN:VEVENT
DTSTART;TZID=America/Chicago:20261111T180000
DTEND;TZID=America/Chicago:20270217T190000
DTSTAMP:20260422T173153
CREATED:20260202T191459Z
LAST-MODIFIED:20260225T013919Z
UID:10005349-1794420000-1802890800@lakepointervresort.com
SUMMARY:Neil's Burger Night
DESCRIPTION:$7.50 Pre-Orders Only:\nPlease pre-order your burger at the Clubhouse office.  You can also fix your burger the way you like it and take it to go. \n\nHamburger with all the fixin’s\nPotato Salad\nBaked Beans\nLemonade\nIce cream:  Add $1
URL:https://lakepointervresort.com/event/burger-night-2-2/2026-11-11/
LOCATION:Lake Pointe Clubhouse\, 2140 Lakeland Drive\, Canyon Lake\, TX\, 78133\, United States
ATTACH;FMTTYPE=image/jpeg:https://lakepointervresort.com/wp-content/uploads/2025/01/Hamburger-Night.jpg
END:VEVENT
BEGIN:VEVENT
DTSTART;TZID=America/Chicago:20261117T190000
DTEND;TZID=America/Chicago:20261117T210000
DTSTAMP:20260422T173153
CREATED:20250325T204043Z
LAST-MODIFIED:20250325T204043Z
UID:10005112-1794942000-1794949200@lakepointervresort.com
SUMMARY:Game Night
DESCRIPTION:Self-Led Game Night\nCome join us for Games at the Clubhouse\nLet’s play!  Cards\, Dominos\, Left/Right/Center\, and more.  All bets welcome\, so bring your friends and let’s see who wins.  BYOB and your own snacks.  Water and soda available for $1 each.
URL:https://lakepointervresort.com/event/game-night-2-2/2026-11-17/
LOCATION:TX
ATTACH;FMTTYPE=image/jpeg:https://lakepointervresort.com/wp-content/uploads/2024/09/Game-Night.jpg
END:VEVENT
BEGIN:VEVENT
DTSTART;TZID=America/Chicago:20261118T180000
DTEND;TZID=America/Chicago:20270224T190000
DTSTAMP:20260422T173153
CREATED:20260202T191459Z
LAST-MODIFIED:20260225T013919Z
UID:10005350-1795024800-1803495600@lakepointervresort.com
SUMMARY:Neil's Burger Night
DESCRIPTION:$7.50 Pre-Orders Only:\nPlease pre-order your burger at the Clubhouse office.  You can also fix your burger the way you like it and take it to go. \n\nHamburger with all the fixin’s\nPotato Salad\nBaked Beans\nLemonade\nIce cream:  Add $1
URL:https://lakepointervresort.com/event/burger-night-2-2/2026-11-18/
LOCATION:Lake Pointe Clubhouse\, 2140 Lakeland Drive\, Canyon Lake\, TX\, 78133\, United States
ATTACH;FMTTYPE=image/jpeg:https://lakepointervresort.com/wp-content/uploads/2025/01/Hamburger-Night.jpg
END:VEVENT
END:VCALENDAR